BEGIN:VCALENDAR
VERSION:2.0
PRODID:-//From the Heart Church Ministries of Philadelphia - ECPv6.15.20//NONSGML v1.0//EN
CALSCALE:GREGORIAN
METHOD:PUBLISH
X-WR-CALNAME:From the Heart Church Ministries of Philadelphia
X-ORIGINAL-URL:https://fthcmphilly.org
X-WR-CALDESC:Events for From the Heart Church Ministries of Philadelphia
REFRESH-INTERVAL;VALUE=DURATION:PT1H
X-Robots-Tag:noindex
X-PUBLISHED-TTL:PT1H
BEGIN:VTIMEZONE
TZID:America/New_York
BEGIN:DAYLIGHT
TZOFFSETFROM:-0500
TZOFFSETTO:-0400
TZNAME:EDT
DTSTART:20240310T070000
END:DAYLIGHT
BEGIN:STANDARD
TZOFFSETFROM:-0400
TZOFFSETTO:-0500
TZNAME:EST
DTSTART:20241103T060000
END:STANDARD
BEGIN:DAYLIGHT
TZOFFSETFROM:-0500
TZOFFSETTO:-0400
TZNAME:EDT
DTSTART:20250309T070000
END:DAYLIGHT
BEGIN:STANDARD
TZOFFSETFROM:-0400
TZOFFSETTO:-0500
TZNAME:EST
DTSTART:20251102T060000
END:STANDARD
BEGIN:DAYLIGHT
TZOFFSETFROM:-0500
TZOFFSETTO:-0400
TZNAME:EDT
DTSTART:20260308T070000
END:DAYLIGHT
BEGIN:STANDARD
TZOFFSETFROM:-0400
TZOFFSETTO:-0500
TZNAME:EST
DTSTART:20261101T060000
END:STANDARD
END:VTIMEZONE
BEGIN:VEVENT
DTSTART;TZID=America/New_York:20250401T193000
DTEND;TZID=America/New_York:20250401T203000
DTSTAMP:20260423T101827
CREATED:20250401T101604Z
LAST-MODIFIED:20250401T110308Z
UID:35243-1743535800-1743539400@fthcmphilly.org
SUMMARY:Tuesday Bible Study
DESCRIPTION:Every Tuesday at 7:30pm.
URL:https://fthcmphilly.org/event/bible-study/
LOCATION:From the Heart Church Ministries of Philadelphia\, 3600 N. 20th Street\, Philadelphia\, PA\, 19140\, United States
ATTACH;FMTTYPE=image/jpeg:https://fthcmphilly.org/wp-content/uploads/2025/04/Logo-e1743496937120.jpg
END:VEVENT
BEGIN:VEVENT
DTSTART;TZID=America/New_York:20250401T183000
DTEND;TZID=America/New_York:20250401T193000
DTSTAMP:20260423T101827
CREATED:20250401T084557Z
LAST-MODIFIED:20250401T084557Z
UID:35202-1743532200-1743535800@fthcmphilly.org
SUMMARY:Perfecting Class (9 -week series)
DESCRIPTION:Tuesday\, April 1st at 6:30 pm\nRegistration closed.
URL:https://fthcmphilly.org/event/perfecting-class-9-week-series/
LOCATION:From the Heart Church Ministries of Philadelphia\, 3600 N. 20th Street\, Philadelphia\, PA\, 19140\, United States
ATTACH;FMTTYPE=image/jpeg:https://fthcmphilly.org/wp-content/uploads/2025/04/Logo-e1743496937120.jpg
END:VEVENT
BEGIN:VEVENT
DTSTART;TZID=America/New_York:20250401T094500
DTEND;TZID=America/New_York:20250401T113000
DTSTAMP:20260423T101827
CREATED:20250401T104924Z
LAST-MODIFIED:20250401T104924Z
UID:35279-1743500700-1743507000@fthcmphilly.org
SUMMARY:Sunday Worship Service
DESCRIPTION:Every Sunday at 9:45am.
URL:https://fthcmphilly.org/event/sunday-worship-service-2/
LOCATION:From the Heart Church Ministries of Philadelphia\, 3600 N. 20th Street\, Philadelphia\, PA\, 19140\, United States
ATTACH;FMTTYPE=image/jpeg:https://fthcmphilly.org/wp-content/uploads/2025/04/Logo-e1743496937120.jpg
END:VEVENT
BEGIN:VEVENT
DTSTART;VALUE=DATE:20250401
DTEND;VALUE=DATE:20250402
DTSTAMP:20260423T101827
CREATED:20250401T085042Z
LAST-MODIFIED:20250401T085042Z
UID:35206-1743465600-1743551999@fthcmphilly.org
SUMMARY:April Birthday & Wedding Anniversary Submissions Due
DESCRIPTION:Tuesday\, April 1st via email. Visit Realm for more details.
URL:https://fthcmphilly.org/event/april-birthday-wedding-anniversary-submissions-due/
LOCATION:Realm
ATTACH;FMTTYPE=image/jpeg:https://fthcmphilly.org/wp-content/uploads/2025/04/Logo-e1743496937120.jpg
END:VEVENT
END:VCALENDAR